BEGIN:VCALENDAR
VERSION:2.0
PRODID:-//京丹後森林公園スイス村-kyotango forestpark Swiss village - ECPv6.1.4//NONSGML v1.0//EN
CALSCALE:GREGORIAN
METHOD:PUBLISH
X-WR-CALNAME:京丹後森林公園スイス村-kyotango forestpark Swiss village
X-ORIGINAL-URL:https://kyotangoforestpark.jp
X-WR-CALDESC:京丹後森林公園スイス村-kyotango forestpark Swiss village のイベント
REFRESH-INTERVAL;VALUE=DURATION:PT1H
X-Robots-Tag:noindex
X-PUBLISHED-TTL:PT1H
BEGIN:VTIMEZONE
TZID:Asia/Tokyo
BEGIN:STANDARD
TZOFFSETFROM:+0900
TZOFFSETTO:+0900
TZNAME:JST
DTSTART:20260101T000000
END:STANDARD
END:VTIMEZONE
BEGIN:VEVENT
DTSTART;VALUE=DATE:20260418
DTEND;VALUE=DATE:20260713
DTSTAMP:20260426T010253
CREATED:20260422T092248Z
LAST-MODIFIED:20260423T023203Z
UID:4436-1776470400-1783900799@kyotangoforestpark.jp
SUMMARY:【丹後里山あそび隊】～　春は五目釣り！川と海の恵みで焼きちくわを食すツアー　～
DESCRIPTION:京丹後森林公園スイス村“自然の達人”養成プログラム・丹後里山あそび隊\n～　春は五目釣り！川と海の恵みで焼きちくわを食すツアー　～\n– 素材そのまま、丹後の春は「ちくわ」で味わうべし –\n地元の“名人”に弟子入りし、ホンモノの自然遊びを体験する「丹後里山あそび隊」。冬の荒波を超え、多彩な生命が謳歌する海へ最強の生餌を投入すれば、メバル、カサゴ、アジ、ハゼ、スズキ、はたして何が釣れるのか？川エビ捕って地魚を釣り焼きちくわで食す。川と海を舞台に、ワクドキ香ばしいプログラムです。 \n開催日程：2026年5/16㈯～17㈰・5/23㈯～24㈰の2回開催\n実施場所：京丹後森林公園スイス村及び京丹後の海\n〇参加要件：2名以上で「山頂ホテル・風のがっこう京都」に宿泊された方\n〇募集組数：1日程につき2組（1グループ最大5名様まで。お子様だけでの参加はできません。）\n〇参加費   ：体験費用＋1泊3食付き　※3食ともアレルギー対応食ではありません。注意が必要な方は事前にご相談ください。\n中学生以上25\,000円、小学生15\,000円、幼児（食事・寝具なし）3\,000円\n〇準備物等：汚れたり濡れても良い服装（長袖・長ズボン）、運動靴、長靴、軍手、帽子、雨具（カッパ）、飲物\n〇荒天中止：\n少雨決行としますが、荒天・高波など安全な実施が見込めない場合は、前日の17時にご連絡します。また、当日の天候等により急遽中止とする場合があります。\n※中止時の代替体験メニューは天候等により当日決定します（大幅変更あり）。 \n【お申込み期限】\n参加希望日の1週間前まで（定員になり次第、受付終了します。） \n【お申込みいただく上でご了承いただきたいこと】\n➀体験中は写真等を撮影し、今後のﾌﾟﾛﾓｰｼｮﾝ用の映像として事前にお断りすることなく使用させていただきます。\n➁行程中の安全には参加者ご自身のご協力が必要です。ツアー中は主催者の指示を守って行動してください。万一、事故やケガ等があった場合、主催者が加入する保険適用範囲での対応となります。\n③荒天等による体験内容の変更や釣果によって参加費が変わることはありません。\n④宿泊は１グループ１室（和室）です。お客様都合によるキャンセルの場合、次のとおりキャンセル料が発生します。\n（4日前～7日前 ツアー料金の30% / 2～3日前 50％ / 前日80％ / 当日・連絡無し当日不泊100%） \n  \n【お申込み方法】\nこちらの申込フォーム（Googleフォーム）からご応募下さい。\n※ 申込フォームに入力された方に、風のがっこうの宿泊予約用パスワードをお送りします。 \n  \n【スケジュール】\n1日目\n\n\n\n\n時刻\n内容\n備考\n\n\n12：00\nスイス村「風のがっこう京都」集合\n食事を済ませて集合してください。\n※周辺に飲食店等はありません。\n\n\n12：15\n五目釣りレク・川エビ仕掛け作り\n現地へ出る前に予備知識の学習とエビかご作り\n\n\n14：00\n川エビ捕り・五目釣り\n河口でエビかごを設置・回収し、防波堤で五目釣りします\n\n\n18：30\n風のがっこうへ\n\n\n\n19：30\n夕食・入浴・星空観察（自由行動）\n夕食は焼き肉（天気が良ければ星空BBQ）です\n\n\n\n\n2日目 \n\n\n\n\n時刻\n内容\n備考\n\n\n8：00\n朝食\n\n\n\n9：00\n焼きちくわ作り\n釣れた魚を調理し、竹を切って焼きちくわを作ります\n\n\n12：30\n昼食\n釣果で内容はランクup！丹後産特別栽培米コシヒカリで\n\n\n13：30\n解散\nお疲れさまでした\n\n\n\n\n  \n――――――　　お申込み・お問合せ　　――――――\n京丹後森林公園スイス村（担当：大江）　TEL（0772）66-0036\nＥメール：swiss@Kyotangoforestpark.jp
URL:https://kyotangoforestpark.jp/event/2026chikuwa/
LOCATION:京丹後森林公園スイス村全域
CATEGORIES:Our Events
ATTACH;FMTTYPE=image/jpeg:https://kyotangoforestpark.jp/wp-content/uploads/2026/04/gomokutsuri.jpg
END:VEVENT
BEGIN:VEVENT
DTSTART;VALUE=DATE:20260418
DTEND;VALUE=DATE:20260713
DTSTAMP:20260426T010253
CREATED:20260422T092315Z
LAST-MODIFIED:20260422T105726Z
UID:4446-1776470400-1783900799@kyotangoforestpark.jp
SUMMARY:【丹後里山あそび隊】～　丹後の美しい砂浜でシロギス釣って極上天丼を食すツアー　～
DESCRIPTION:京丹後森林公園スイス村“自然の達人”養成プログラム・丹後里山あそび隊\n～　丹後の美しい砂浜でシロギス釣って極上天丼を食すツアー　～\n– 砂浜の女王に出会う on the sunset beach –\n  \n地元の“名人”に弟子入りし、ホンモノの自然遊びを体験する「丹後里山あそび隊」。延々と続く白い砂浜、とことん透明な海。海開き前、初夏の京丹後ビーチは最高の癒し空間です。キスの連掛け、ヒラメ、マゴチを狙って夕日にキャストし、ふわサクの天ぷらを味わいたい。身も心も大満足のseasideプログラムです。 \n開催日程：2026年6/13㈯～14㈰・6/27㈯～28㈰・7/4㈯～5㈰の３回開催\n実施場所：京丹後森林公園スイス村及び京丹後の海\n〇参加要件：2名以上で「山頂ホテル・風のがっこう京都」に宿泊された方\n〇募集組数：1日程につき2組（1グループ最大5名様まで。お子様だけでの参加はできません。）\n〇参加費   ：体験費用＋1泊3食付き　※3食ともアレルギー対応食ではありません。注意が必要な方は事前にご相談ください。\n中学生以上26\,000円、小学生15\,000円、幼児（食事・寝具なし）3\,000円\n〇準備物等：濡れても良い服装、ﾋﾞｰﾁｻﾝﾀﾞﾙ、運動靴、帽子、雨具（カッパ）、飲物（※波打ち際で膝まで海に浸かる覚悟で）\n〇荒天中止：\n少雨決行としますが、荒天・高波など安全な実施が見込めない場合は、前日の17時にご連絡します。また、当日の天候等により急遽中止とする場合があります。\n※中止時の代替体験メニューは天候等により当日決定します（大幅変更あり）。 \n【お申込み期限】\n参加希望日の1週間前まで（定員になり次第、受付終了します。） \n【お申込みいただく上でご了承いただきたいこと】\n➀体験中は写真等を撮影し、今後のﾌﾟﾛﾓｰｼｮﾝ用の映像として事前にお断りすることなく使用させていただきます。\n➁行程中の安全には参加者ご自身のご協力が必要です。ツアー中は主催者の指示を守って行動してください。万一、事故やケガ等があった場合、主催者が加入する保険適用範囲での対応となります。\n③荒天等による体験内容の変更や釣果によって参加費が変わることはありません。\n④宿泊は１グループ１室（和室）です。お客様都合によるキャンセルの場合、次のとおりキャンセル料が発生します。\n（4日前～7日前 ツアー料金の30% / 2～3日前 50％ / 前日80％ / 当日・連絡無し当日不泊100%） \n  \n【お申込み方法】\nこちらの申込フォーム（Googleフォーム）からご応募下さい。\n※ 申込フォームに入力された方に、風のがっこうの宿泊予約用パスワードをお送りします。 \n  \n【スケジュール】\n1日目\n\n\n\n\n時刻\n内容\n備考\n\n\n13：00\nスイス村「風のがっこう京都」集合\n食事を済ませて集合してください。\n※周辺に飲食店等はありません。\n\n\n13：15\nキス釣りレク・ｷｬｽﾃｨﾝｸﾞ練習\n現地へ出る前に予備知識とキャスティング練習\n\n\n15：00\n海へ向け出発\n各自、自家用車での移動になる場合があります\n\n\n19：00\n風のがっこうへ\n\n\n\n19：30\n夕食・入浴・星空観察（自由行動）\n夕食は焼き肉（天気が良ければ星空BBQ）です\n\n\n\n\n2日目\n\n\n\n\n時刻\n内容\n備考\n\n\n8：00\n朝食\n\n\n\n9：00\nキスの天ぷら作り\n釣果によって調理方法が変わります\n\n\n12：00\n昼食\n砂浜の女王×丹後産特別栽培米コシヒカリで極上の天丼に\n\n\n13：00\n解散\nお疲れさまでした\n\n\n\n\n  \n――――――　　お申込み・お問合せ　　――――――\n京丹後森林公園スイス村（担当：大江）　TEL（0772）66-0036\nＥメール：swiss@Kyotangoforestpark.jp
URL:https://kyotangoforestpark.jp/event/shirogisu/
LOCATION:京丹後森林公園スイス村全域
CATEGORIES:Our Events
ATTACH;FMTTYPE=image/jpeg:https://kyotangoforestpark.jp/wp-content/uploads/2026/04/shirogisu.jpg
END:VEVENT
END:VCALENDAR